BEGIN:VCALENDAR
VERSION:2.0
PRODID:-//First Immanuel Chicago - ECPv6.15.20//NONSGML v1.0//EN
CALSCALE:GREGORIAN
METHOD:PUBLISH
X-WR-CALNAME:First Immanuel Chicago
X-ORIGINAL-URL:https://firstimmanuelchicago.org
X-WR-CALDESC:Events for First Immanuel Chicago
REFRESH-INTERVAL;VALUE=DURATION:PT1H
X-Robots-Tag:noindex
X-PUBLISHED-TTL:PT1H
BEGIN:VTIMEZONE
TZID:America/Chicago
BEGIN:DAYLIGHT
TZOFFSETFROM:-0600
TZOFFSETTO:-0500
TZNAME:CDT
DTSTART:20250309T080000
END:DAYLIGHT
BEGIN:STANDARD
TZOFFSETFROM:-0500
TZOFFSETTO:-0600
TZNAME:CST
DTSTART:20251102T070000
END:STANDARD
BEGIN:DAYLIGHT
TZOFFSETFROM:-0600
TZOFFSETTO:-0500
TZNAME:CDT
DTSTART:20260308T080000
END:DAYLIGHT
BEGIN:STANDARD
TZOFFSETFROM:-0500
TZOFFSETTO:-0600
TZNAME:CST
DTSTART:20261101T070000
END:STANDARD
BEGIN:DAYLIGHT
TZOFFSETFROM:-0600
TZOFFSETTO:-0500
TZNAME:CDT
DTSTART:20270314T080000
END:DAYLIGHT
BEGIN:STANDARD
TZOFFSETFROM:-0500
TZOFFSETTO:-0600
TZNAME:CST
DTSTART:20271107T070000
END:STANDARD
BEGIN:DAYLIGHT
TZOFFSETFROM:-0600
TZOFFSETTO:-0500
TZNAME:CDT
DTSTART:20280312T080000
END:DAYLIGHT
BEGIN:STANDARD
TZOFFSETFROM:-0500
TZOFFSETTO:-0600
TZNAME:CST
DTSTART:20281105T070000
END:STANDARD
BEGIN:DAYLIGHT
TZOFFSETFROM:-0600
TZOFFSETTO:-0500
TZNAME:CDT
DTSTART:20290311T080000
END:DAYLIGHT
BEGIN:STANDARD
TZOFFSETFROM:-0500
TZOFFSETTO:-0600
TZNAME:CST
DTSTART:20291104T070000
END:STANDARD
END:VTIMEZONE
BEGIN:VEVENT
DTSTART;TZID=America/Chicago:20260512T170000
DTEND;TZID=America/Chicago:20260512T200000
DTSTAMP:20260424T044952
CREATED:20250901T212516Z
LAST-MODIFIED:20250901T212718Z
UID:10004629-1778605200-1778616000@firstimmanuelchicago.org
SUMMARY:Recovery Cafe
DESCRIPTION:Join us in the parish hall at 1124 S Ashland\, once a month on the 2nd Tuesday\, for some coffee\, informal conversation and mutual support.
URL:https://firstimmanuelchicago.org/event/recovery-cafe/2026-05-12/
LOCATION:Parish Hall\, 1124 S Ashland Avenue\, Chicago\, IL\, 60607\, United States
END:VEVENT
BEGIN:VEVENT
DTSTART;TZID=America/Chicago:20260609T170000
DTEND;TZID=America/Chicago:20260609T200000
DTSTAMP:20260424T044952
CREATED:20250901T212516Z
LAST-MODIFIED:20250901T212718Z
UID:10004630-1781024400-1781035200@firstimmanuelchicago.org
SUMMARY:Recovery Cafe
DESCRIPTION:Join us in the parish hall at 1124 S Ashland\, once a month on the 2nd Tuesday\, for some coffee\, informal conversation and mutual support.
URL:https://firstimmanuelchicago.org/event/recovery-cafe/2026-06-09/
LOCATION:Parish Hall\, 1124 S Ashland Avenue\, Chicago\, IL\, 60607\, United States
END:VEVENT
BEGIN:VEVENT
DTSTART;TZID=America/Chicago:20260714T170000
DTEND;TZID=America/Chicago:20260714T200000
DTSTAMP:20260424T044952
CREATED:20250901T212516Z
LAST-MODIFIED:20250901T212718Z
UID:10004631-1784048400-1784059200@firstimmanuelchicago.org
SUMMARY:Recovery Cafe
DESCRIPTION:Join us in the parish hall at 1124 S Ashland\, once a month on the 2nd Tuesday\, for some coffee\, informal conversation and mutual support.
URL:https://firstimmanuelchicago.org/event/recovery-cafe/2026-07-14/
LOCATION:Parish Hall\, 1124 S Ashland Avenue\, Chicago\, IL\, 60607\, United States
END:VEVENT
BEGIN:VEVENT
DTSTART;TZID=America/Chicago:20260811T170000
DTEND;TZID=America/Chicago:20260811T200000
DTSTAMP:20260424T044952
CREATED:20250901T212516Z
LAST-MODIFIED:20250901T212718Z
UID:10004632-1786467600-1786478400@firstimmanuelchicago.org
SUMMARY:Recovery Cafe
DESCRIPTION:Join us in the parish hall at 1124 S Ashland\, once a month on the 2nd Tuesday\, for some coffee\, informal conversation and mutual support.
URL:https://firstimmanuelchicago.org/event/recovery-cafe/2026-08-11/
LOCATION:Parish Hall\, 1124 S Ashland Avenue\, Chicago\, IL\, 60607\, United States
END:VEVENT
BEGIN:VEVENT
DTSTART;TZID=America/Chicago:20260908T170000
DTEND;TZID=America/Chicago:20260908T200000
DTSTAMP:20260424T044952
CREATED:20250901T212516Z
LAST-MODIFIED:20250901T212718Z
UID:10004633-1788886800-1788897600@firstimmanuelchicago.org
SUMMARY:Recovery Cafe
DESCRIPTION:Join us in the parish hall at 1124 S Ashland\, once a month on the 2nd Tuesday\, for some coffee\, informal conversation and mutual support.
URL:https://firstimmanuelchicago.org/event/recovery-cafe/2026-09-08/
LOCATION:Parish Hall\, 1124 S Ashland Avenue\, Chicago\, IL\, 60607\, United States
END:VEVENT
BEGIN:VEVENT
DTSTART;TZID=America/Chicago:20261013T170000
DTEND;TZID=America/Chicago:20261013T200000
DTSTAMP:20260424T044952
CREATED:20250901T212516Z
LAST-MODIFIED:20250901T212718Z
UID:10004634-1791910800-1791921600@firstimmanuelchicago.org
SUMMARY:Recovery Cafe
DESCRIPTION:Join us in the parish hall at 1124 S Ashland\, once a month on the 2nd Tuesday\, for some coffee\, informal conversation and mutual support.
URL:https://firstimmanuelchicago.org/event/recovery-cafe/2026-10-13/
LOCATION:Parish Hall\, 1124 S Ashland Avenue\, Chicago\, IL\, 60607\, United States
END:VEVENT
BEGIN:VEVENT
DTSTART;TZID=America/Chicago:20261110T170000
DTEND;TZID=America/Chicago:20261110T200000
DTSTAMP:20260424T044952
CREATED:20250901T212516Z
LAST-MODIFIED:20250901T212718Z
UID:10004635-1794330000-1794340800@firstimmanuelchicago.org
SUMMARY:Recovery Cafe
DESCRIPTION:Join us in the parish hall at 1124 S Ashland\, once a month on the 2nd Tuesday\, for some coffee\, informal conversation and mutual support.
URL:https://firstimmanuelchicago.org/event/recovery-cafe/2026-11-10/
LOCATION:Parish Hall\, 1124 S Ashland Avenue\, Chicago\, IL\, 60607\, United States
END:VEVENT
BEGIN:VEVENT
DTSTART;TZID=America/Chicago:20261208T170000
DTEND;TZID=America/Chicago:20261208T200000
DTSTAMP:20260424T044952
CREATED:20250901T212516Z
LAST-MODIFIED:20250901T212718Z
UID:10004636-1796749200-1796760000@firstimmanuelchicago.org
SUMMARY:Recovery Cafe
DESCRIPTION:Join us in the parish hall at 1124 S Ashland\, once a month on the 2nd Tuesday\, for some coffee\, informal conversation and mutual support.
URL:https://firstimmanuelchicago.org/event/recovery-cafe/2026-12-08/
LOCATION:Parish Hall\, 1124 S Ashland Avenue\, Chicago\, IL\, 60607\, United States
END:VEVENT
BEGIN:VEVENT
DTSTART;TZID=America/Chicago:20270112T170000
DTEND;TZID=America/Chicago:20270112T200000
DTSTAMP:20260424T044952
CREATED:20250901T212516Z
LAST-MODIFIED:20250901T212718Z
UID:10004637-1799773200-1799784000@firstimmanuelchicago.org
SUMMARY:Recovery Cafe
DESCRIPTION:Join us in the parish hall at 1124 S Ashland\, once a month on the 2nd Tuesday\, for some coffee\, informal conversation and mutual support.
URL:https://firstimmanuelchicago.org/event/recovery-cafe/2027-01-12/
LOCATION:Parish Hall\, 1124 S Ashland Avenue\, Chicago\, IL\, 60607\, United States
END:VEVENT
BEGIN:VEVENT
DTSTART;TZID=America/Chicago:20270209T170000
DTEND;TZID=America/Chicago:20270209T200000
DTSTAMP:20260424T044952
CREATED:20250901T212516Z
LAST-MODIFIED:20250901T212718Z
UID:10004638-1802192400-1802203200@firstimmanuelchicago.org
SUMMARY:Recovery Cafe
DESCRIPTION:Join us in the parish hall at 1124 S Ashland\, once a month on the 2nd Tuesday\, for some coffee\, informal conversation and mutual support.
URL:https://firstimmanuelchicago.org/event/recovery-cafe/2027-02-09/
LOCATION:Parish Hall\, 1124 S Ashland Avenue\, Chicago\, IL\, 60607\, United States
END:VEVENT
BEGIN:VEVENT
DTSTART;TZID=America/Chicago:20270309T170000
DTEND;TZID=America/Chicago:20270309T200000
DTSTAMP:20260424T044952
CREATED:20250901T212516Z
LAST-MODIFIED:20250901T212718Z
UID:10004639-1804611600-1804622400@firstimmanuelchicago.org
SUMMARY:Recovery Cafe
DESCRIPTION:Join us in the parish hall at 1124 S Ashland\, once a month on the 2nd Tuesday\, for some coffee\, informal conversation and mutual support.
URL:https://firstimmanuelchicago.org/event/recovery-cafe/2027-03-09/
LOCATION:Parish Hall\, 1124 S Ashland Avenue\, Chicago\, IL\, 60607\, United States
END:VEVENT
BEGIN:VEVENT
DTSTART;TZID=America/Chicago:20270413T170000
DTEND;TZID=America/Chicago:20270413T200000
DTSTAMP:20260424T044952
CREATED:20250901T212516Z
LAST-MODIFIED:20250901T212718Z
UID:10004640-1807635600-1807646400@firstimmanuelchicago.org
SUMMARY:Recovery Cafe
DESCRIPTION:Join us in the parish hall at 1124 S Ashland\, once a month on the 2nd Tuesday\, for some coffee\, informal conversation and mutual support.
URL:https://firstimmanuelchicago.org/event/recovery-cafe/2027-04-13/
LOCATION:Parish Hall\, 1124 S Ashland Avenue\, Chicago\, IL\, 60607\, United States
END:VEVENT
BEGIN:VEVENT
DTSTART;TZID=America/Chicago:20270511T170000
DTEND;TZID=America/Chicago:20270511T200000
DTSTAMP:20260424T044952
CREATED:20250901T212516Z
LAST-MODIFIED:20250901T212718Z
UID:10004641-1810054800-1810065600@firstimmanuelchicago.org
SUMMARY:Recovery Cafe
DESCRIPTION:Join us in the parish hall at 1124 S Ashland\, once a month on the 2nd Tuesday\, for some coffee\, informal conversation and mutual support.
URL:https://firstimmanuelchicago.org/event/recovery-cafe/2027-05-11/
LOCATION:Parish Hall\, 1124 S Ashland Avenue\, Chicago\, IL\, 60607\, United States
END:VEVENT
BEGIN:VEVENT
DTSTART;TZID=America/Chicago:20270608T170000
DTEND;TZID=America/Chicago:20270608T200000
DTSTAMP:20260424T044952
CREATED:20250901T212516Z
LAST-MODIFIED:20250901T212718Z
UID:10004642-1812474000-1812484800@firstimmanuelchicago.org
SUMMARY:Recovery Cafe
DESCRIPTION:Join us in the parish hall at 1124 S Ashland\, once a month on the 2nd Tuesday\, for some coffee\, informal conversation and mutual support.
URL:https://firstimmanuelchicago.org/event/recovery-cafe/2027-06-08/
LOCATION:Parish Hall\, 1124 S Ashland Avenue\, Chicago\, IL\, 60607\, United States
END:VEVENT
BEGIN:VEVENT
DTSTART;TZID=America/Chicago:20270713T170000
DTEND;TZID=America/Chicago:20270713T200000
DTSTAMP:20260424T044952
CREATED:20250901T212516Z
LAST-MODIFIED:20250901T212718Z
UID:10004643-1815498000-1815508800@firstimmanuelchicago.org
SUMMARY:Recovery Cafe
DESCRIPTION:Join us in the parish hall at 1124 S Ashland\, once a month on the 2nd Tuesday\, for some coffee\, informal conversation and mutual support.
URL:https://firstimmanuelchicago.org/event/recovery-cafe/2027-07-13/
LOCATION:Parish Hall\, 1124 S Ashland Avenue\, Chicago\, IL\, 60607\, United States
END:VEVENT
BEGIN:VEVENT
DTSTART;TZID=America/Chicago:20270810T170000
DTEND;TZID=America/Chicago:20270810T200000
DTSTAMP:20260424T044952
CREATED:20250901T212516Z
LAST-MODIFIED:20250901T212718Z
UID:10004644-1817917200-1817928000@firstimmanuelchicago.org
SUMMARY:Recovery Cafe
DESCRIPTION:Join us in the parish hall at 1124 S Ashland\, once a month on the 2nd Tuesday\, for some coffee\, informal conversation and mutual support.
URL:https://firstimmanuelchicago.org/event/recovery-cafe/2027-08-10/
LOCATION:Parish Hall\, 1124 S Ashland Avenue\, Chicago\, IL\, 60607\, United States
END:VEVENT
BEGIN:VEVENT
DTSTART;TZID=America/Chicago:20270914T170000
DTEND;TZID=America/Chicago:20270914T200000
DTSTAMP:20260424T044952
CREATED:20250901T212516Z
LAST-MODIFIED:20250901T212718Z
UID:10004645-1820941200-1820952000@firstimmanuelchicago.org
SUMMARY:Recovery Cafe
DESCRIPTION:Join us in the parish hall at 1124 S Ashland\, once a month on the 2nd Tuesday\, for some coffee\, informal conversation and mutual support.
URL:https://firstimmanuelchicago.org/event/recovery-cafe/2027-09-14/
LOCATION:Parish Hall\, 1124 S Ashland Avenue\, Chicago\, IL\, 60607\, United States
END:VEVENT
BEGIN:VEVENT
DTSTART;TZID=America/Chicago:20271012T170000
DTEND;TZID=America/Chicago:20271012T200000
DTSTAMP:20260424T044952
CREATED:20250901T212516Z
LAST-MODIFIED:20250901T212718Z
UID:10004646-1823360400-1823371200@firstimmanuelchicago.org
SUMMARY:Recovery Cafe
DESCRIPTION:Join us in the parish hall at 1124 S Ashland\, once a month on the 2nd Tuesday\, for some coffee\, informal conversation and mutual support.
URL:https://firstimmanuelchicago.org/event/recovery-cafe/2027-10-12/
LOCATION:Parish Hall\, 1124 S Ashland Avenue\, Chicago\, IL\, 60607\, United States
END:VEVENT
BEGIN:VEVENT
DTSTART;TZID=America/Chicago:20271109T170000
DTEND;TZID=America/Chicago:20271109T200000
DTSTAMP:20260424T044952
CREATED:20250901T212516Z
LAST-MODIFIED:20250901T212718Z
UID:10004647-1825779600-1825790400@firstimmanuelchicago.org
SUMMARY:Recovery Cafe
DESCRIPTION:Join us in the parish hall at 1124 S Ashland\, once a month on the 2nd Tuesday\, for some coffee\, informal conversation and mutual support.
URL:https://firstimmanuelchicago.org/event/recovery-cafe/2027-11-09/
LOCATION:Parish Hall\, 1124 S Ashland Avenue\, Chicago\, IL\, 60607\, United States
END:VEVENT
BEGIN:VEVENT
DTSTART;TZID=America/Chicago:20271214T170000
DTEND;TZID=America/Chicago:20271214T200000
DTSTAMP:20260424T044952
CREATED:20250901T212516Z
LAST-MODIFIED:20250901T212718Z
UID:10004648-1828803600-1828814400@firstimmanuelchicago.org
SUMMARY:Recovery Cafe
DESCRIPTION:Join us in the parish hall at 1124 S Ashland\, once a month on the 2nd Tuesday\, for some coffee\, informal conversation and mutual support.
URL:https://firstimmanuelchicago.org/event/recovery-cafe/2027-12-14/
LOCATION:Parish Hall\, 1124 S Ashland Avenue\, Chicago\, IL\, 60607\, United States
END:VEVENT
BEGIN:VEVENT
DTSTART;TZID=America/Chicago:20280111T170000
DTEND;TZID=America/Chicago:20280111T200000
DTSTAMP:20260424T044952
CREATED:20250901T212516Z
LAST-MODIFIED:20250901T212718Z
UID:10004649-1831222800-1831233600@firstimmanuelchicago.org
SUMMARY:Recovery Cafe
DESCRIPTION:Join us in the parish hall at 1124 S Ashland\, once a month on the 2nd Tuesday\, for some coffee\, informal conversation and mutual support.
URL:https://firstimmanuelchicago.org/event/recovery-cafe/2028-01-11/
LOCATION:Parish Hall\, 1124 S Ashland Avenue\, Chicago\, IL\, 60607\, United States
END:VEVENT
BEGIN:VEVENT
DTSTART;TZID=America/Chicago:20280208T170000
DTEND;TZID=America/Chicago:20280208T200000
DTSTAMP:20260424T044952
CREATED:20250901T212516Z
LAST-MODIFIED:20250901T212718Z
UID:10004650-1833642000-1833652800@firstimmanuelchicago.org
SUMMARY:Recovery Cafe
DESCRIPTION:Join us in the parish hall at 1124 S Ashland\, once a month on the 2nd Tuesday\, for some coffee\, informal conversation and mutual support.
URL:https://firstimmanuelchicago.org/event/recovery-cafe/2028-02-08/
LOCATION:Parish Hall\, 1124 S Ashland Avenue\, Chicago\, IL\, 60607\, United States
END:VEVENT
BEGIN:VEVENT
DTSTART;TZID=America/Chicago:20280314T170000
DTEND;TZID=America/Chicago:20280314T200000
DTSTAMP:20260424T044952
CREATED:20250901T212516Z
LAST-MODIFIED:20250901T212718Z
UID:10004651-1836666000-1836676800@firstimmanuelchicago.org
SUMMARY:Recovery Cafe
DESCRIPTION:Join us in the parish hall at 1124 S Ashland\, once a month on the 2nd Tuesday\, for some coffee\, informal conversation and mutual support.
URL:https://firstimmanuelchicago.org/event/recovery-cafe/2028-03-14/
LOCATION:Parish Hall\, 1124 S Ashland Avenue\, Chicago\, IL\, 60607\, United States
END:VEVENT
BEGIN:VEVENT
DTSTART;TZID=America/Chicago:20280411T170000
DTEND;TZID=America/Chicago:20280411T200000
DTSTAMP:20260424T044952
CREATED:20250901T212516Z
LAST-MODIFIED:20250901T212718Z
UID:10004652-1839085200-1839096000@firstimmanuelchicago.org
SUMMARY:Recovery Cafe
DESCRIPTION:Join us in the parish hall at 1124 S Ashland\, once a month on the 2nd Tuesday\, for some coffee\, informal conversation and mutual support.
URL:https://firstimmanuelchicago.org/event/recovery-cafe/2028-04-11/
LOCATION:Parish Hall\, 1124 S Ashland Avenue\, Chicago\, IL\, 60607\, United States
END:VEVENT
BEGIN:VEVENT
DTSTART;TZID=America/Chicago:20280509T170000
DTEND;TZID=America/Chicago:20280509T200000
DTSTAMP:20260424T044952
CREATED:20250901T212516Z
LAST-MODIFIED:20250901T212718Z
UID:10004653-1841504400-1841515200@firstimmanuelchicago.org
SUMMARY:Recovery Cafe
DESCRIPTION:Join us in the parish hall at 1124 S Ashland\, once a month on the 2nd Tuesday\, for some coffee\, informal conversation and mutual support.
URL:https://firstimmanuelchicago.org/event/recovery-cafe/2028-05-09/
LOCATION:Parish Hall\, 1124 S Ashland Avenue\, Chicago\, IL\, 60607\, United States
END:VEVENT
BEGIN:VEVENT
DTSTART;TZID=America/Chicago:20280613T170000
DTEND;TZID=America/Chicago:20280613T200000
DTSTAMP:20260424T044952
CREATED:20250901T212516Z
LAST-MODIFIED:20250901T212718Z
UID:10004654-1844528400-1844539200@firstimmanuelchicago.org
SUMMARY:Recovery Cafe
DESCRIPTION:Join us in the parish hall at 1124 S Ashland\, once a month on the 2nd Tuesday\, for some coffee\, informal conversation and mutual support.
URL:https://firstimmanuelchicago.org/event/recovery-cafe/2028-06-13/
LOCATION:Parish Hall\, 1124 S Ashland Avenue\, Chicago\, IL\, 60607\, United States
END:VEVENT
BEGIN:VEVENT
DTSTART;TZID=America/Chicago:20280711T170000
DTEND;TZID=America/Chicago:20280711T200000
DTSTAMP:20260424T044952
CREATED:20250901T212516Z
LAST-MODIFIED:20250901T212718Z
UID:10004655-1846947600-1846958400@firstimmanuelchicago.org
SUMMARY:Recovery Cafe
DESCRIPTION:Join us in the parish hall at 1124 S Ashland\, once a month on the 2nd Tuesday\, for some coffee\, informal conversation and mutual support.
URL:https://firstimmanuelchicago.org/event/recovery-cafe/2028-07-11/
LOCATION:Parish Hall\, 1124 S Ashland Avenue\, Chicago\, IL\, 60607\, United States
END:VEVENT
BEGIN:VEVENT
DTSTART;TZID=America/Chicago:20280808T170000
DTEND;TZID=America/Chicago:20280808T200000
DTSTAMP:20260424T044952
CREATED:20250901T212516Z
LAST-MODIFIED:20250901T212718Z
UID:10004656-1849366800-1849377600@firstimmanuelchicago.org
SUMMARY:Recovery Cafe
DESCRIPTION:Join us in the parish hall at 1124 S Ashland\, once a month on the 2nd Tuesday\, for some coffee\, informal conversation and mutual support.
URL:https://firstimmanuelchicago.org/event/recovery-cafe/2028-08-08/
LOCATION:Parish Hall\, 1124 S Ashland Avenue\, Chicago\, IL\, 60607\, United States
END:VEVENT
BEGIN:VEVENT
DTSTART;TZID=America/Chicago:20280912T170000
DTEND;TZID=America/Chicago:20280912T200000
DTSTAMP:20260424T044952
CREATED:20250901T212516Z
LAST-MODIFIED:20250901T212718Z
UID:10004657-1852390800-1852401600@firstimmanuelchicago.org
SUMMARY:Recovery Cafe
DESCRIPTION:Join us in the parish hall at 1124 S Ashland\, once a month on the 2nd Tuesday\, for some coffee\, informal conversation and mutual support.
URL:https://firstimmanuelchicago.org/event/recovery-cafe/2028-09-12/
LOCATION:Parish Hall\, 1124 S Ashland Avenue\, Chicago\, IL\, 60607\, United States
END:VEVENT
BEGIN:VEVENT
DTSTART;TZID=America/Chicago:20281010T170000
DTEND;TZID=America/Chicago:20281010T200000
DTSTAMP:20260424T044952
CREATED:20250901T212516Z
LAST-MODIFIED:20250901T212718Z
UID:10004658-1854810000-1854820800@firstimmanuelchicago.org
SUMMARY:Recovery Cafe
DESCRIPTION:Join us in the parish hall at 1124 S Ashland\, once a month on the 2nd Tuesday\, for some coffee\, informal conversation and mutual support.
URL:https://firstimmanuelchicago.org/event/recovery-cafe/2028-10-10/
LOCATION:Parish Hall\, 1124 S Ashland Avenue\, Chicago\, IL\, 60607\, United States
END:VEVENT
END:VCALENDAR