BEGIN:VCALENDAR
VERSION:2.0
PRODID:-//First Immanuel Chicago - ECPv6.15.20//NONSGML v1.0//EN
CALSCALE:GREGORIAN
METHOD:PUBLISH
X-ORIGINAL-URL:https://firstimmanuelchicago.org
X-WR-CALDESC:Events for First Immanuel Chicago
REFRESH-INTERVAL;VALUE=DURATION:PT1H
X-Robots-Tag:noindex
X-PUBLISHED-TTL:PT1H
BEGIN:VTIMEZONE
TZID:America/Chicago
BEGIN:DAYLIGHT
TZOFFSETFROM:-0600
TZOFFSETTO:-0500
TZNAME:CDT
DTSTART:20250309T080000
END:DAYLIGHT
BEGIN:STANDARD
TZOFFSETFROM:-0500
TZOFFSETTO:-0600
TZNAME:CST
DTSTART:20251102T070000
END:STANDARD
BEGIN:DAYLIGHT
TZOFFSETFROM:-0600
TZOFFSETTO:-0500
TZNAME:CDT
DTSTART:20260308T080000
END:DAYLIGHT
BEGIN:STANDARD
TZOFFSETFROM:-0500
TZOFFSETTO:-0600
TZNAME:CST
DTSTART:20261101T070000
END:STANDARD
BEGIN:DAYLIGHT
TZOFFSETFROM:-0600
TZOFFSETTO:-0500
TZNAME:CDT
DTSTART:20270314T080000
END:DAYLIGHT
BEGIN:STANDARD
TZOFFSETFROM:-0500
TZOFFSETTO:-0600
TZNAME:CST
DTSTART:20271107T070000
END:STANDARD
END:VTIMEZONE
BEGIN:VEVENT
DTSTART;TZID=America/Chicago:20260422T183000
DTEND;TZID=America/Chicago:20260422T193000
DTSTAMP:20260422T085506
CREATED:20260305T022458Z
LAST-MODIFIED:20260305T022458Z
UID:10004973-1776882600-1776886200@firstimmanuelchicago.org
SUMMARY:Bible Study - Spring 2026
DESCRIPTION:Join us\, in person\, for a light supper at 6 pm in the parish hall\, followed at 6:30 pm by Bible Study… \n…or via Zoom at 6:30 pm.
URL:https://firstimmanuelchicago.org/event/bible-study-spring-2026-12/
LOCATION:Parish Hall\, 1124 S Ashland Avenue\, Chicago\, IL\, 60607\, United States
CATEGORIES:Bible Study
END:VEVENT
BEGIN:VEVENT
DTSTART;TZID=America/Chicago:20260423T183000
DTEND;TZID=America/Chicago:20260423T200000
DTSTAMP:20260422T085506
CREATED:20250926T012230Z
LAST-MODIFIED:20250926T012230Z
UID:10004885-1776969000-1776974400@firstimmanuelchicago.org
SUMMARY:6:30 pm Church Council Meeting
DESCRIPTION:This meeting usually occurs on the fourth Thursday of the month\, from 6:30 pm to 8:00 pm via Zoom. \nThe Zoom link is below. \nJoin Zoom Meeting\nhttps://zoom.us/j/97920411993?pwd=wKjzHhbxfGPKIeaYT1kUKF5nO3y0it.1 \nMeeting ID: 979 2041 1993\nPasscode: 203383
URL:https://firstimmanuelchicago.org/event/630-pm-church-council-meeting-8/
LOCATION:Zoom
END:VEVENT
BEGIN:VEVENT
DTSTART;TZID=America/Chicago:20260426T103000
DTEND;TZID=America/Chicago:20260426T120000
DTSTAMP:20260422T085506
CREATED:20260328T015537Z
LAST-MODIFIED:20260328T020936Z
UID:10004988-1777199400-1777204800@firstimmanuelchicago.org
SUMMARY:10:30 am Sunday Worship
DESCRIPTION:PALM SUNDAY Worship Service\nSunday|10:30am – 12:00pm\n  \n\n\n \nJoin us in front of church for the Palm Sunday Procession at 10:30 am CDT\, location: 1124 S Ashland Avenue\, Chicago\, IL 60607 \n  \nYou can also join remotely by scrolling down on our Facebook page for Facebook Live at up to 720p quality \n  \nor by installing Zoom and clicking on the Zoom meeting link below. \n\n\n \nhttps://zoom.us/j/91695793350?pwd=UkRkaWJQOENUQndteDRVb09SNkJSZz09 \n  \nMeeting ID: 916 9579 3350 Passcode: 171748 \nOne tap mobile \n+13092053325\,\,91695793350#\,\,\,\,*171748# US \n+13126266799\,\,91695793350#\,\,\,\,*171748# US (Chicago) \n  \nFollow along in the Bulletin.
URL:https://firstimmanuelchicago.org/event/1030-am-sunday-worship-20/
LOCATION:Church Sanctuary\, 1124 S Ashland Avenue\, Chicago\, IL\, 60607\, United States
CATEGORIES:Worship
END:VEVENT
BEGIN:VEVENT
DTSTART;TZID=America/Chicago:20260426T120000
DTEND;TZID=America/Chicago:20260426T140000
DTSTAMP:20260422T085506
CREATED:20260420T210553Z
LAST-MODIFIED:20260420T210553Z
UID:10004998-1777204800-1777212000@firstimmanuelchicago.org
SUMMARY:Tabitha's Closet Sidewalk Sale
DESCRIPTION:
URL:https://firstimmanuelchicago.org/event/tabithas-closet-sidewalk-sale/
END:VEVENT
BEGIN:VEVENT
DTSTART;TZID=America/Chicago:20260429T183000
DTEND;TZID=America/Chicago:20260429T193000
DTSTAMP:20260422T085506
CREATED:20260305T022526Z
LAST-MODIFIED:20260305T022526Z
UID:10004974-1777487400-1777491000@firstimmanuelchicago.org
SUMMARY:Bible Study - Spring 2026
DESCRIPTION:Join us\, in person\, for a light supper at 6 pm in the parish hall\, followed at 6:30 pm by Bible Study… \n…or via Zoom at 6:30 pm.
URL:https://firstimmanuelchicago.org/event/bible-study-spring-2026-13/
LOCATION:Parish Hall\, 1124 S Ashland Avenue\, Chicago\, IL\, 60607\, United States
CATEGORIES:Bible Study
END:VEVENT
END:VCALENDAR