BEGIN:VCALENDAR
VERSION:2.0
PRODID:-//First Immanuel Chicago - ECPv6.15.20//NONSGML v1.0//EN
CALSCALE:GREGORIAN
METHOD:PUBLISH
X-ORIGINAL-URL:https://firstimmanuelchicago.org
X-WR-CALDESC:Events for First Immanuel Chicago
REFRESH-INTERVAL;VALUE=DURATION:PT1H
X-Robots-Tag:noindex
X-PUBLISHED-TTL:PT1H
BEGIN:VTIMEZONE
TZID:America/Chicago
BEGIN:DAYLIGHT
TZOFFSETFROM:-0600
TZOFFSETTO:-0500
TZNAME:CDT
DTSTART:20250309T080000
END:DAYLIGHT
BEGIN:STANDARD
TZOFFSETFROM:-0500
TZOFFSETTO:-0600
TZNAME:CST
DTSTART:20251102T070000
END:STANDARD
BEGIN:DAYLIGHT
TZOFFSETFROM:-0600
TZOFFSETTO:-0500
TZNAME:CDT
DTSTART:20260308T080000
END:DAYLIGHT
BEGIN:STANDARD
TZOFFSETFROM:-0500
TZOFFSETTO:-0600
TZNAME:CST
DTSTART:20261101T070000
END:STANDARD
BEGIN:DAYLIGHT
TZOFFSETFROM:-0600
TZOFFSETTO:-0500
TZNAME:CDT
DTSTART:20270314T080000
END:DAYLIGHT
BEGIN:STANDARD
TZOFFSETFROM:-0500
TZOFFSETTO:-0600
TZNAME:CST
DTSTART:20271107T070000
END:STANDARD
END:VTIMEZONE
BEGIN:VEVENT
DTSTART;TZID=America/Chicago:20260201T103000
DTEND;TZID=America/Chicago:20260201T120000
DTSTAMP:20260422T115751
CREATED:20251228T202003Z
LAST-MODIFIED:20260129T201705Z
UID:10004941-1769941800-1769947200@firstimmanuelchicago.org
SUMMARY:10:30 am Sunday Worship
DESCRIPTION:LIVE Worship Service\nSundays|10:30am – 12:00pm\n  \n\n\n \nJoin us in church on Sunday mornings at 10:30 am CDT\, location: 1124 S Ashland Avenue\, Chicago\, IL 60607 \n  \nYou can also join remotely by scrolling down on our Facebook page for Facebook Live at up to 720p quality \n  \nor by installing Zoom and clicking on the Zoom meeting link below. \n\n\n \nhttps://zoom.us/j/91695793350?pwd=UkRkaWJQOENUQndteDRVb09SNkJSZz09 \n  \nMeeting ID: 916 9579 3350 Passcode: 171748 \nOne tap mobile \n+13092053325\,\,91695793350#\,\,\,\,*171748# US \n+13126266799\,\,91695793350#\,\,\,\,*171748# US (Chicago) \n  \nFollow along in the Bulletin.
URL:https://firstimmanuelchicago.org/event/1030-am-sunday-worship-9/
LOCATION:Church Sanctuary\, 1124 S Ashland Avenue\, Chicago\, IL\, 60607\, United States
END:VEVENT
BEGIN:VEVENT
DTSTART;TZID=America/Chicago:20260201T120000
DTEND;TZID=America/Chicago:20260201T133000
DTSTAMP:20260422T115751
CREATED:20240102T135956Z
LAST-MODIFIED:20240430T184905Z
UID:10002222-1769947200-1769952600@firstimmanuelchicago.org
SUMMARY:First-Sunday Fellowship
DESCRIPTION:Join us for fellowship in the Parish Hall\, immediately after Worship; hosted by the Birthday Clubs.
URL:https://firstimmanuelchicago.org/event/first-sunday-fellowship/2026-02-01/
LOCATION:Parish Hall\, 1124 S Ashland Avenue\, Chicago\, IL\, 60607\, United States
END:VEVENT
BEGIN:VEVENT
DTSTART;TZID=America/Chicago:20260204T183000
DTEND;TZID=America/Chicago:20260204T193000
DTSTAMP:20260422T115751
CREATED:20251228T202515Z
LAST-MODIFIED:20260108T004235Z
UID:10004946-1770229800-1770233400@firstimmanuelchicago.org
SUMMARY:Bible Study - Spring 2026
DESCRIPTION:Join us\, in person\, for a light supper at 6 pm in the parish hall\, followed at 6:30 pm by Bible Study… \n…or via Zoom at 6:30 pm.
URL:https://firstimmanuelchicago.org/event/bible-study-spring-2026-5/
LOCATION:Parish Hall\, 1124 S Ashland Avenue\, Chicago\, IL\, 60607\, United States
CATEGORIES:Bible Study
END:VEVENT
BEGIN:VEVENT
DTSTART;TZID=America/Chicago:20260208T103000
DTEND;TZID=America/Chicago:20260208T120000
DTSTAMP:20260422T115751
CREATED:20260202T025923Z
LAST-MODIFIED:20260205T194743Z
UID:10004958-1770546600-1770552000@firstimmanuelchicago.org
SUMMARY:10:30 am Sunday Worship
DESCRIPTION:LIVE Worship Service\nSundays|10:30am – 12:00pm\n  \n\n\n \nJoin us in church on Sunday mornings at 10:30 am CDT\, location: 1124 S Ashland Avenue\, Chicago\, IL 60607 \n  \nYou can also join remotely by scrolling down on our Facebook page for Facebook Live at up to 720p quality \n  \nor by installing Zoom and clicking on the Zoom meeting link below. \n\n\n \nhttps://zoom.us/j/91695793350?pwd=UkRkaWJQOENUQndteDRVb09SNkJSZz09 \n  \nMeeting ID: 916 9579 3350 Passcode: 171748 \nOne tap mobile \n+13092053325\,\,91695793350#\,\,\,\,*171748# US \n+13126266799\,\,91695793350#\,\,\,\,*171748# US (Chicago) \n  \nFollow along in the Bulletin.
URL:https://firstimmanuelchicago.org/event/1030-am-sunday-worship-10/
LOCATION:Church Sanctuary\, 1124 S Ashland Avenue\, Chicago\, IL\, 60607\, United States
CATEGORIES:Worship
END:VEVENT
BEGIN:VEVENT
DTSTART;TZID=America/Chicago:20260208T120000
DTEND;TZID=America/Chicago:20260208T123000
DTSTAMP:20260422T115751
CREATED:20230904T132552Z
LAST-MODIFIED:20230904T132552Z
UID:10001169-1770552000-1770553800@firstimmanuelchicago.org
SUMMARY:Choir Practice (2nd Sunday of the Month)
DESCRIPTION:Suspended during the pandemic\, choir practice will resume\, immediately following Worship\, on the first and second Sundays of each month\, beginning in September\, 2023.  Practice is 30 minutes.  No audition is required.  Anyone who enjoys singing is welcome.
URL:https://firstimmanuelchicago.org/event/choir-practice-2nd-sunday-of-the-month/2026-02-08/
LOCATION:Church Sanctuary\, 1124 S Ashland Avenue\, Chicago\, IL\, 60607\, United States
ORGANIZER;CN="Yvonne Tabb":MAILTO:vonspc@att.net
END:VEVENT
BEGIN:VEVENT
DTSTART;TZID=America/Chicago:20260210T170000
DTEND;TZID=America/Chicago:20260210T200000
DTSTAMP:20260422T115751
CREATED:20250901T212516Z
LAST-MODIFIED:20250901T212718Z
UID:10004626-1770742800-1770753600@firstimmanuelchicago.org
SUMMARY:Recovery Cafe
DESCRIPTION:Join us in the parish hall at 1124 S Ashland\, once a month on the 2nd Tuesday\, for some coffee\, informal conversation and mutual support.
URL:https://firstimmanuelchicago.org/event/recovery-cafe/2026-02-10/
LOCATION:Parish Hall\, 1124 S Ashland Avenue\, Chicago\, IL\, 60607\, United States
END:VEVENT
BEGIN:VEVENT
DTSTART;TZID=America/Chicago:20260211T183000
DTEND;TZID=America/Chicago:20260211T193000
DTSTAMP:20260422T115751
CREATED:20251228T202549Z
LAST-MODIFIED:20260108T004317Z
UID:10004947-1770834600-1770838200@firstimmanuelchicago.org
SUMMARY:Bible Study - Spring 2026
DESCRIPTION:Join us\, in person\, for a light supper at 6 pm in the parish hall\, followed at 6:30 pm by Bible Study… \n…or via Zoom at 6:30 pm.
URL:https://firstimmanuelchicago.org/event/bible-study-spring-2026-6/
LOCATION:Parish Hall\, 1124 S Ashland Avenue\, Chicago\, IL\, 60607\, United States
CATEGORIES:Bible Study
END:VEVENT
BEGIN:VEVENT
DTSTART;TZID=America/Chicago:20260213T150000
DTEND;TZID=America/Chicago:20260213T180000
DTSTAMP:20260422T115751
CREATED:20260205T193346Z
LAST-MODIFIED:20260205T193346Z
UID:10004961-1770994800-1771005600@firstimmanuelchicago.org
SUMMARY:PRIVATE EVENT - Rita Dixon
DESCRIPTION:
URL:https://firstimmanuelchicago.org/event/private-event-rita-dixon/
LOCATION:Parish Hall\, 1124 S Ashland Avenue\, Chicago\, IL\, 60607\, United States
ORGANIZER;CN="Yvonne Tabb":MAILTO:vonspc@att.net
END:VEVENT
BEGIN:VEVENT
DTSTART;TZID=America/Chicago:20260214T040000
DTEND;TZID=America/Chicago:20260214T190000
DTSTAMP:20260422T115751
CREATED:20251215T210636Z
LAST-MODIFIED:20251215T210636Z
UID:10004936-1771041600-1771095600@firstimmanuelchicago.org
SUMMARY:PRIVATE EVENT:  The Elite Nigeria Women Association
DESCRIPTION:
URL:https://firstimmanuelchicago.org/event/private-event-the-elite-nigeria-women-association/
LOCATION:Parish Hall\, 1124 S Ashland Avenue\, Chicago\, IL\, 60607\, United States
ORGANIZER;CN="Yvonne Tabb":MAILTO:vonspc@att.net
END:VEVENT
BEGIN:VEVENT
DTSTART;TZID=America/Chicago:20260215T103000
DTEND;TZID=America/Chicago:20260215T120000
DTSTAMP:20260422T115751
CREATED:20260202T030000Z
LAST-MODIFIED:20260202T030000Z
UID:10004959-1771151400-1771156800@firstimmanuelchicago.org
SUMMARY:10:30 am Sunday Worship
DESCRIPTION:LIVE Worship Service\nSundays|10:30am – 12:00pm\n  \n\n\n \nJoin us in church on Sunday mornings at 10:30 am CDT\, location: 1124 S Ashland Avenue\, Chicago\, IL 60607 \n  \nYou can also join remotely by scrolling down on our Facebook page for Facebook Live at up to 720p quality \n  \nor by installing Zoom and clicking on the Zoom meeting link below. \n\n\n \nhttps://zoom.us/j/91695793350?pwd=UkRkaWJQOENUQndteDRVb09SNkJSZz09 \n  \nMeeting ID: 916 9579 3350 Passcode: 171748 \nOne tap mobile \n+13092053325\,\,91695793350#\,\,\,\,*171748# US \n+13126266799\,\,91695793350#\,\,\,\,*171748# US (Chicago) \n  \nFollow along in the Bulletin.
URL:https://firstimmanuelchicago.org/event/1030-am-sunday-worship-11/
LOCATION:Church Sanctuary\, 1124 S Ashland Avenue\, Chicago\, IL\, 60607\, United States
CATEGORIES:Worship
END:VEVENT
BEGIN:VEVENT
DTSTART;TZID=America/Chicago:20260218T070000
DTEND;TZID=America/Chicago:20260218T090000
DTSTAMP:20260422T115751
CREATED:20251228T203053Z
LAST-MODIFIED:20260105T155600Z
UID:10004949-1771398000-1771405200@firstimmanuelchicago.org
SUMMARY:Ashes on Ashland/Ashes to Go
DESCRIPTION:Join us in front of the church to distribute or receive ashes.
URL:https://firstimmanuelchicago.org/event/ashes-on-ashland-ashes-to-go-3/
END:VEVENT
BEGIN:VEVENT
DTSTART;TZID=America/Chicago:20260218T183000
DTEND;TZID=America/Chicago:20260218T193000
DTSTAMP:20260422T115751
CREATED:20251228T202858Z
LAST-MODIFIED:20251228T202858Z
UID:10004948-1771439400-1771443000@firstimmanuelchicago.org
SUMMARY:Ash Wednesday Service
DESCRIPTION:
URL:https://firstimmanuelchicago.org/event/ash-wednesday-service-2/
LOCATION:Church Sanctuary\, 1124 S Ashland Avenue\, Chicago\, IL\, 60607\, United States
END:VEVENT
BEGIN:VEVENT
DTSTART;TZID=America/Chicago:20260222T103000
DTEND;TZID=America/Chicago:20260222T120000
DTSTAMP:20260422T115751
CREATED:20260202T030026Z
LAST-MODIFIED:20260221T185041Z
UID:10004960-1771756200-1771761600@firstimmanuelchicago.org
SUMMARY:10:30 am Sunday Worship
DESCRIPTION:LIVE Worship Service\nSundays|10:30am – 12:00pm\n  \n\n\n \nJoin us in church on Sunday mornings at 10:30 am CDT\, location: 1124 S Ashland Avenue\, Chicago\, IL 60607 \n  \nYou can also join remotely by scrolling down on our Facebook page for Facebook Live at up to 720p quality \n  \nor by installing Zoom and clicking on the Zoom meeting link below. \n\n\n \nhttps://zoom.us/j/91695793350?pwd=UkRkaWJQOENUQndteDRVb09SNkJSZz09 \n  \nMeeting ID: 916 9579 3350 Passcode: 171748 \nOne tap mobile \n+13092053325\,\,91695793350#\,\,\,\,*171748# US \n+13126266799\,\,91695793350#\,\,\,\,*171748# US (Chicago) \n  \nFollow along in the Bulletin.
URL:https://firstimmanuelchicago.org/event/1030-am-sunday-worship-12/
LOCATION:Church Sanctuary\, 1124 S Ashland Avenue\, Chicago\, IL\, 60607\, United States
CATEGORIES:Worship
END:VEVENT
BEGIN:VEVENT
DTSTART;TZID=America/Chicago:20260222T120000
DTEND;TZID=America/Chicago:20260222T120000
DTSTAMP:20260422T115751
CREATED:20250618T162416Z
LAST-MODIFIED:20251009T200114Z
UID:10004432-1771761600-1771761600@firstimmanuelchicago.org
SUMMARY:Confirmation Class (without mentors)
DESCRIPTION:Lesson 14
URL:https://firstimmanuelchicago.org/event/confirmation-class-without-mentors-4/
LOCATION:Friendship House\, 1134 S Ashland Avenue\, Chicago\, Il\, 60607
END:VEVENT
BEGIN:VEVENT
DTSTART;TZID=America/Chicago:20260226T183000
DTEND;TZID=America/Chicago:20260226T200000
DTSTAMP:20260422T115751
CREATED:20250926T012140Z
LAST-MODIFIED:20260105T160428Z
UID:10004883-1772130600-1772136000@firstimmanuelchicago.org
SUMMARY:6:30 pm Church Council Meeting
DESCRIPTION:This meeting usually occurs on the fourth Thursday of the month\, from 6:30 pm to 8:00 pm via Zoom. \nThe Zoom link is below. \nJoin Zoom Meeting\nhttps://zoom.us/j/97920411993?pwd=wKjzHhbxfGPKIeaYT1kUKF5nO3y0it.1 \nMeeting ID: 979 2041 1993\nPasscode: 203383
URL:https://firstimmanuelchicago.org/event/630-pm-church-council-meeting-6/
LOCATION:Zoom
END:VEVENT
END:VCALENDAR