BEGIN:VCALENDAR
VERSION:2.0
PRODID:-//First Immanuel Chicago - ECPv6.15.20//NONSGML v1.0//EN
CALSCALE:GREGORIAN
METHOD:PUBLISH
X-WR-CALNAME:First Immanuel Chicago
X-ORIGINAL-URL:https://firstimmanuelchicago.org
X-WR-CALDESC:Events for First Immanuel Chicago
REFRESH-INTERVAL;VALUE=DURATION:PT1H
X-Robots-Tag:noindex
X-PUBLISHED-TTL:PT1H
BEGIN:VTIMEZONE
TZID:America/Chicago
BEGIN:DAYLIGHT
TZOFFSETFROM:-0600
TZOFFSETTO:-0500
TZNAME:CDT
DTSTART:20250309T080000
END:DAYLIGHT
BEGIN:STANDARD
TZOFFSETFROM:-0500
TZOFFSETTO:-0600
TZNAME:CST
DTSTART:20251102T070000
END:STANDARD
BEGIN:DAYLIGHT
TZOFFSETFROM:-0600
TZOFFSETTO:-0500
TZNAME:CDT
DTSTART:20260308T080000
END:DAYLIGHT
BEGIN:STANDARD
TZOFFSETFROM:-0500
TZOFFSETTO:-0600
TZNAME:CST
DTSTART:20261101T070000
END:STANDARD
BEGIN:DAYLIGHT
TZOFFSETFROM:-0600
TZOFFSETTO:-0500
TZNAME:CDT
DTSTART:20270314T080000
END:DAYLIGHT
BEGIN:STANDARD
TZOFFSETFROM:-0500
TZOFFSETTO:-0600
TZNAME:CST
DTSTART:20271107T070000
END:STANDARD
BEGIN:DAYLIGHT
TZOFFSETFROM:-0600
TZOFFSETTO:-0500
TZNAME:CDT
DTSTART:20280312T080000
END:DAYLIGHT
BEGIN:STANDARD
TZOFFSETFROM:-0500
TZOFFSETTO:-0600
TZNAME:CST
DTSTART:20281105T070000
END:STANDARD
END:VTIMEZONE
BEGIN:VEVENT
DTSTART;TZID=America/Chicago:20261227T120000
DTEND;TZID=America/Chicago:20261227T130000
DTSTAMP:20260424T062305
CREATED:20240102T025220Z
LAST-MODIFIED:20240316T202701Z
UID:10002188-1798372800-1798376400@firstimmanuelchicago.org
SUMMARY:Stephen Ministers Meeting
DESCRIPTION:This is a quarterly\, in-person meeting during which the Stephen’s Ministers can touch base with Vicar Anne and with one another. \nFirst Immanuel Lutheran Church of Chicago is inviting you to a scheduled Zoom meeting. \nTopic: Stephen Ministers\nTime: Mar 23\, 2024 02:00 PM Central Time (US and Canada) \nJoin Zoom Meeting\nhttps://zoom.us/j/99735703352?pwd=Y092MFpKWWVDNU1jQ2xGaE5ZckxaZz09 \nMeeting ID: 997 3570 3352\nPasscode: 630952 \n— \nOne tap mobile\n+13092053325\,\,99735703352#\,\,\,\,*630952# US\n+13126266799\,\,99735703352#\,\,\,\,*630952# US (Chicago)
URL:https://firstimmanuelchicago.org/event/stephens-ministers-meeting/2026-12-27/
LOCATION:Parish Hall\, 1124 S Ashland Avenue\, Chicago\, IL\, 60607\, United States
END:VEVENT
BEGIN:VEVENT
DTSTART;TZID=America/Chicago:20270103T120000
DTEND;TZID=America/Chicago:20270103T133000
DTSTAMP:20260424T062305
CREATED:20240102T135956Z
LAST-MODIFIED:20240430T184905Z
UID:10002233-1798977600-1798983000@firstimmanuelchicago.org
SUMMARY:First-Sunday Fellowship
DESCRIPTION:Join us for fellowship in the Parish Hall\, immediately after Worship; hosted by the Birthday Clubs.
URL:https://firstimmanuelchicago.org/event/first-sunday-fellowship/2027-01-03/
LOCATION:Parish Hall\, 1124 S Ashland Avenue\, Chicago\, IL\, 60607\, United States
END:VEVENT
BEGIN:VEVENT
DTSTART;TZID=America/Chicago:20270110T120000
DTEND;TZID=America/Chicago:20270110T123000
DTSTAMP:20260424T062305
CREATED:20230904T132552Z
LAST-MODIFIED:20230904T132552Z
UID:10001180-1799582400-1799584200@firstimmanuelchicago.org
SUMMARY:Choir Practice (2nd Sunday of the Month)
DESCRIPTION:Suspended during the pandemic\, choir practice will resume\, immediately following Worship\, on the first and second Sundays of each month\, beginning in September\, 2023.  Practice is 30 minutes.  No audition is required.  Anyone who enjoys singing is welcome.
URL:https://firstimmanuelchicago.org/event/choir-practice-2nd-sunday-of-the-month/2027-01-10/
LOCATION:Church Sanctuary\, 1124 S Ashland Avenue\, Chicago\, IL\, 60607\, United States
ORGANIZER;CN="Yvonne Tabb":MAILTO:vonspc@att.net
END:VEVENT
BEGIN:VEVENT
DTSTART;TZID=America/Chicago:20270112T170000
DTEND;TZID=America/Chicago:20270112T200000
DTSTAMP:20260424T062305
CREATED:20250901T212516Z
LAST-MODIFIED:20250901T212718Z
UID:10004637-1799773200-1799784000@firstimmanuelchicago.org
SUMMARY:Recovery Cafe
DESCRIPTION:Join us in the parish hall at 1124 S Ashland\, once a month on the 2nd Tuesday\, for some coffee\, informal conversation and mutual support.
URL:https://firstimmanuelchicago.org/event/recovery-cafe/2027-01-12/
LOCATION:Parish Hall\, 1124 S Ashland Avenue\, Chicago\, IL\, 60607\, United States
END:VEVENT
BEGIN:VEVENT
DTSTART;TZID=America/Chicago:20270117T090000
DTEND;TZID=America/Chicago:20270117T100000
DTSTAMP:20260424T062305
CREATED:20251124T215221Z
LAST-MODIFIED:20251124T215526Z
UID:10004925-1800176400-1800180000@firstimmanuelchicago.org
SUMMARY:Legacy Fund Committee Meeting
DESCRIPTION:The Legacy Fund Committee generally meets bimonthly on the third Saturday of the month. \nZOOM MEETING LINK: https://zoom.us/j/91748214534?pwd=Ph2yR9YDq0ofjFd6nPVNkxLc8Cdauv.1 \n 
URL:https://firstimmanuelchicago.org/event/legacy-fund-committee-meeting-9/
LOCATION:Zoom
END:VEVENT
BEGIN:VEVENT
DTSTART;TZID=America/Chicago:20270207T120000
DTEND;TZID=America/Chicago:20270207T133000
DTSTAMP:20260424T062305
CREATED:20240102T135956Z
LAST-MODIFIED:20240430T184905Z
UID:10002234-1802001600-1802007000@firstimmanuelchicago.org
SUMMARY:First-Sunday Fellowship
DESCRIPTION:Join us for fellowship in the Parish Hall\, immediately after Worship; hosted by the Birthday Clubs.
URL:https://firstimmanuelchicago.org/event/first-sunday-fellowship/2027-02-07/
LOCATION:Parish Hall\, 1124 S Ashland Avenue\, Chicago\, IL\, 60607\, United States
END:VEVENT
BEGIN:VEVENT
DTSTART;TZID=America/Chicago:20270209T170000
DTEND;TZID=America/Chicago:20270209T200000
DTSTAMP:20260424T062305
CREATED:20250901T212516Z
LAST-MODIFIED:20250901T212718Z
UID:10004638-1802192400-1802203200@firstimmanuelchicago.org
SUMMARY:Recovery Cafe
DESCRIPTION:Join us in the parish hall at 1124 S Ashland\, once a month on the 2nd Tuesday\, for some coffee\, informal conversation and mutual support.
URL:https://firstimmanuelchicago.org/event/recovery-cafe/2027-02-09/
LOCATION:Parish Hall\, 1124 S Ashland Avenue\, Chicago\, IL\, 60607\, United States
END:VEVENT
BEGIN:VEVENT
DTSTART;TZID=America/Chicago:20270214T120000
DTEND;TZID=America/Chicago:20270214T123000
DTSTAMP:20260424T062305
CREATED:20230904T132552Z
LAST-MODIFIED:20230904T132552Z
UID:10001181-1802606400-1802608200@firstimmanuelchicago.org
SUMMARY:Choir Practice (2nd Sunday of the Month)
DESCRIPTION:Suspended during the pandemic\, choir practice will resume\, immediately following Worship\, on the first and second Sundays of each month\, beginning in September\, 2023.  Practice is 30 minutes.  No audition is required.  Anyone who enjoys singing is welcome.
URL:https://firstimmanuelchicago.org/event/choir-practice-2nd-sunday-of-the-month/2027-02-14/
LOCATION:Church Sanctuary\, 1124 S Ashland Avenue\, Chicago\, IL\, 60607\, United States
ORGANIZER;CN="Yvonne Tabb":MAILTO:vonspc@att.net
END:VEVENT
BEGIN:VEVENT
DTSTART;TZID=America/Chicago:20270307T120000
DTEND;TZID=America/Chicago:20270307T133000
DTSTAMP:20260424T062305
CREATED:20240102T135956Z
LAST-MODIFIED:20240430T184905Z
UID:10002235-1804420800-1804426200@firstimmanuelchicago.org
SUMMARY:First-Sunday Fellowship
DESCRIPTION:Join us for fellowship in the Parish Hall\, immediately after Worship; hosted by the Birthday Clubs.
URL:https://firstimmanuelchicago.org/event/first-sunday-fellowship/2027-03-07/
LOCATION:Parish Hall\, 1124 S Ashland Avenue\, Chicago\, IL\, 60607\, United States
END:VEVENT
BEGIN:VEVENT
DTSTART;TZID=America/Chicago:20270309T170000
DTEND;TZID=America/Chicago:20270309T200000
DTSTAMP:20260424T062305
CREATED:20250901T212516Z
LAST-MODIFIED:20250901T212718Z
UID:10004639-1804611600-1804622400@firstimmanuelchicago.org
SUMMARY:Recovery Cafe
DESCRIPTION:Join us in the parish hall at 1124 S Ashland\, once a month on the 2nd Tuesday\, for some coffee\, informal conversation and mutual support.
URL:https://firstimmanuelchicago.org/event/recovery-cafe/2027-03-09/
LOCATION:Parish Hall\, 1124 S Ashland Avenue\, Chicago\, IL\, 60607\, United States
END:VEVENT
BEGIN:VEVENT
DTSTART;TZID=America/Chicago:20270314T120000
DTEND;TZID=America/Chicago:20270314T123000
DTSTAMP:20260424T062305
CREATED:20230904T132552Z
LAST-MODIFIED:20230904T132552Z
UID:10001182-1805025600-1805027400@firstimmanuelchicago.org
SUMMARY:Choir Practice (2nd Sunday of the Month)
DESCRIPTION:Suspended during the pandemic\, choir practice will resume\, immediately following Worship\, on the first and second Sundays of each month\, beginning in September\, 2023.  Practice is 30 minutes.  No audition is required.  Anyone who enjoys singing is welcome.
URL:https://firstimmanuelchicago.org/event/choir-practice-2nd-sunday-of-the-month/2027-03-14/
LOCATION:Church Sanctuary\, 1124 S Ashland Avenue\, Chicago\, IL\, 60607\, United States
ORGANIZER;CN="Yvonne Tabb":MAILTO:vonspc@att.net
END:VEVENT
BEGIN:VEVENT
DTSTART;TZID=America/Chicago:20270328T120000
DTEND;TZID=America/Chicago:20270328T130000
DTSTAMP:20260424T062305
CREATED:20240102T025220Z
LAST-MODIFIED:20240316T202701Z
UID:10002189-1806235200-1806238800@firstimmanuelchicago.org
SUMMARY:Stephen Ministers Meeting
DESCRIPTION:This is a quarterly\, in-person meeting during which the Stephen’s Ministers can touch base with Vicar Anne and with one another. \nFirst Immanuel Lutheran Church of Chicago is inviting you to a scheduled Zoom meeting. \nTopic: Stephen Ministers\nTime: Mar 23\, 2024 02:00 PM Central Time (US and Canada) \nJoin Zoom Meeting\nhttps://zoom.us/j/99735703352?pwd=Y092MFpKWWVDNU1jQ2xGaE5ZckxaZz09 \nMeeting ID: 997 3570 3352\nPasscode: 630952 \n— \nOne tap mobile\n+13092053325\,\,99735703352#\,\,\,\,*630952# US\n+13126266799\,\,99735703352#\,\,\,\,*630952# US (Chicago)
URL:https://firstimmanuelchicago.org/event/stephens-ministers-meeting/2027-03-28/
LOCATION:Parish Hall\, 1124 S Ashland Avenue\, Chicago\, IL\, 60607\, United States
END:VEVENT
BEGIN:VEVENT
DTSTART;TZID=America/Chicago:20270404T120000
DTEND;TZID=America/Chicago:20270404T133000
DTSTAMP:20260424T062305
CREATED:20240102T135956Z
LAST-MODIFIED:20240430T184905Z
UID:10002236-1806840000-1806845400@firstimmanuelchicago.org
SUMMARY:First-Sunday Fellowship
DESCRIPTION:Join us for fellowship in the Parish Hall\, immediately after Worship; hosted by the Birthday Clubs.
URL:https://firstimmanuelchicago.org/event/first-sunday-fellowship/2027-04-04/
LOCATION:Parish Hall\, 1124 S Ashland Avenue\, Chicago\, IL\, 60607\, United States
END:VEVENT
BEGIN:VEVENT
DTSTART;TZID=America/Chicago:20270411T120000
DTEND;TZID=America/Chicago:20270411T123000
DTSTAMP:20260424T062305
CREATED:20230904T132552Z
LAST-MODIFIED:20230904T132552Z
UID:10001183-1807444800-1807446600@firstimmanuelchicago.org
SUMMARY:Choir Practice (2nd Sunday of the Month)
DESCRIPTION:Suspended during the pandemic\, choir practice will resume\, immediately following Worship\, on the first and second Sundays of each month\, beginning in September\, 2023.  Practice is 30 minutes.  No audition is required.  Anyone who enjoys singing is welcome.
URL:https://firstimmanuelchicago.org/event/choir-practice-2nd-sunday-of-the-month/2027-04-11/
LOCATION:Church Sanctuary\, 1124 S Ashland Avenue\, Chicago\, IL\, 60607\, United States
ORGANIZER;CN="Yvonne Tabb":MAILTO:vonspc@att.net
END:VEVENT
BEGIN:VEVENT
DTSTART;TZID=America/Chicago:20270413T170000
DTEND;TZID=America/Chicago:20270413T200000
DTSTAMP:20260424T062305
CREATED:20250901T212516Z
LAST-MODIFIED:20250901T212718Z
UID:10004640-1807635600-1807646400@firstimmanuelchicago.org
SUMMARY:Recovery Cafe
DESCRIPTION:Join us in the parish hall at 1124 S Ashland\, once a month on the 2nd Tuesday\, for some coffee\, informal conversation and mutual support.
URL:https://firstimmanuelchicago.org/event/recovery-cafe/2027-04-13/
LOCATION:Parish Hall\, 1124 S Ashland Avenue\, Chicago\, IL\, 60607\, United States
END:VEVENT
BEGIN:VEVENT
DTSTART;TZID=America/Chicago:20270502T120000
DTEND;TZID=America/Chicago:20270502T133000
DTSTAMP:20260424T062305
CREATED:20240102T135956Z
LAST-MODIFIED:20240430T184905Z
UID:10002237-1809259200-1809264600@firstimmanuelchicago.org
SUMMARY:First-Sunday Fellowship
DESCRIPTION:Join us for fellowship in the Parish Hall\, immediately after Worship; hosted by the Birthday Clubs.
URL:https://firstimmanuelchicago.org/event/first-sunday-fellowship/2027-05-02/
LOCATION:Parish Hall\, 1124 S Ashland Avenue\, Chicago\, IL\, 60607\, United States
END:VEVENT
BEGIN:VEVENT
DTSTART;TZID=America/Chicago:20270509T120000
DTEND;TZID=America/Chicago:20270509T123000
DTSTAMP:20260424T062305
CREATED:20230904T132552Z
LAST-MODIFIED:20230904T132552Z
UID:10001184-1809864000-1809865800@firstimmanuelchicago.org
SUMMARY:Choir Practice (2nd Sunday of the Month)
DESCRIPTION:Suspended during the pandemic\, choir practice will resume\, immediately following Worship\, on the first and second Sundays of each month\, beginning in September\, 2023.  Practice is 30 minutes.  No audition is required.  Anyone who enjoys singing is welcome.
URL:https://firstimmanuelchicago.org/event/choir-practice-2nd-sunday-of-the-month/2027-05-09/
LOCATION:Church Sanctuary\, 1124 S Ashland Avenue\, Chicago\, IL\, 60607\, United States
ORGANIZER;CN="Yvonne Tabb":MAILTO:vonspc@att.net
END:VEVENT
BEGIN:VEVENT
DTSTART;TZID=America/Chicago:20270511T170000
DTEND;TZID=America/Chicago:20270511T200000
DTSTAMP:20260424T062305
CREATED:20250901T212516Z
LAST-MODIFIED:20250901T212718Z
UID:10004641-1810054800-1810065600@firstimmanuelchicago.org
SUMMARY:Recovery Cafe
DESCRIPTION:Join us in the parish hall at 1124 S Ashland\, once a month on the 2nd Tuesday\, for some coffee\, informal conversation and mutual support.
URL:https://firstimmanuelchicago.org/event/recovery-cafe/2027-05-11/
LOCATION:Parish Hall\, 1124 S Ashland Avenue\, Chicago\, IL\, 60607\, United States
END:VEVENT
BEGIN:VEVENT
DTSTART;TZID=America/Chicago:20270606T120000
DTEND;TZID=America/Chicago:20270606T133000
DTSTAMP:20260424T062305
CREATED:20240102T135956Z
LAST-MODIFIED:20240430T184905Z
UID:10002238-1812283200-1812288600@firstimmanuelchicago.org
SUMMARY:First-Sunday Fellowship
DESCRIPTION:Join us for fellowship in the Parish Hall\, immediately after Worship; hosted by the Birthday Clubs.
URL:https://firstimmanuelchicago.org/event/first-sunday-fellowship/2027-06-06/
LOCATION:Parish Hall\, 1124 S Ashland Avenue\, Chicago\, IL\, 60607\, United States
END:VEVENT
BEGIN:VEVENT
DTSTART;TZID=America/Chicago:20270608T170000
DTEND;TZID=America/Chicago:20270608T200000
DTSTAMP:20260424T062305
CREATED:20250901T212516Z
LAST-MODIFIED:20250901T212718Z
UID:10004642-1812474000-1812484800@firstimmanuelchicago.org
SUMMARY:Recovery Cafe
DESCRIPTION:Join us in the parish hall at 1124 S Ashland\, once a month on the 2nd Tuesday\, for some coffee\, informal conversation and mutual support.
URL:https://firstimmanuelchicago.org/event/recovery-cafe/2027-06-08/
LOCATION:Parish Hall\, 1124 S Ashland Avenue\, Chicago\, IL\, 60607\, United States
END:VEVENT
BEGIN:VEVENT
DTSTART;TZID=America/Chicago:20270613T120000
DTEND;TZID=America/Chicago:20270613T123000
DTSTAMP:20260424T062305
CREATED:20230904T132552Z
LAST-MODIFIED:20230904T132552Z
UID:10001185-1812888000-1812889800@firstimmanuelchicago.org
SUMMARY:Choir Practice (2nd Sunday of the Month)
DESCRIPTION:Suspended during the pandemic\, choir practice will resume\, immediately following Worship\, on the first and second Sundays of each month\, beginning in September\, 2023.  Practice is 30 minutes.  No audition is required.  Anyone who enjoys singing is welcome.
URL:https://firstimmanuelchicago.org/event/choir-practice-2nd-sunday-of-the-month/2027-06-13/
LOCATION:Church Sanctuary\, 1124 S Ashland Avenue\, Chicago\, IL\, 60607\, United States
ORGANIZER;CN="Yvonne Tabb":MAILTO:vonspc@att.net
END:VEVENT
BEGIN:VEVENT
DTSTART;TZID=America/Chicago:20270627T120000
DTEND;TZID=America/Chicago:20270627T130000
DTSTAMP:20260424T062305
CREATED:20240102T025220Z
LAST-MODIFIED:20240316T202701Z
UID:10002190-1814097600-1814101200@firstimmanuelchicago.org
SUMMARY:Stephen Ministers Meeting
DESCRIPTION:This is a quarterly\, in-person meeting during which the Stephen’s Ministers can touch base with Vicar Anne and with one another. \nFirst Immanuel Lutheran Church of Chicago is inviting you to a scheduled Zoom meeting. \nTopic: Stephen Ministers\nTime: Mar 23\, 2024 02:00 PM Central Time (US and Canada) \nJoin Zoom Meeting\nhttps://zoom.us/j/99735703352?pwd=Y092MFpKWWVDNU1jQ2xGaE5ZckxaZz09 \nMeeting ID: 997 3570 3352\nPasscode: 630952 \n— \nOne tap mobile\n+13092053325\,\,99735703352#\,\,\,\,*630952# US\n+13126266799\,\,99735703352#\,\,\,\,*630952# US (Chicago)
URL:https://firstimmanuelchicago.org/event/stephens-ministers-meeting/2027-06-27/
LOCATION:Parish Hall\, 1124 S Ashland Avenue\, Chicago\, IL\, 60607\, United States
END:VEVENT
BEGIN:VEVENT
DTSTART;TZID=America/Chicago:20270704T120000
DTEND;TZID=America/Chicago:20270704T133000
DTSTAMP:20260424T062305
CREATED:20240102T135956Z
LAST-MODIFIED:20240430T184905Z
UID:10002239-1814702400-1814707800@firstimmanuelchicago.org
SUMMARY:First-Sunday Fellowship
DESCRIPTION:Join us for fellowship in the Parish Hall\, immediately after Worship; hosted by the Birthday Clubs.
URL:https://firstimmanuelchicago.org/event/first-sunday-fellowship/2027-07-04/
LOCATION:Parish Hall\, 1124 S Ashland Avenue\, Chicago\, IL\, 60607\, United States
END:VEVENT
BEGIN:VEVENT
DTSTART;TZID=America/Chicago:20270711T120000
DTEND;TZID=America/Chicago:20270711T123000
DTSTAMP:20260424T062305
CREATED:20230904T132552Z
LAST-MODIFIED:20230904T132552Z
UID:10001186-1815307200-1815309000@firstimmanuelchicago.org
SUMMARY:Choir Practice (2nd Sunday of the Month)
DESCRIPTION:Suspended during the pandemic\, choir practice will resume\, immediately following Worship\, on the first and second Sundays of each month\, beginning in September\, 2023.  Practice is 30 minutes.  No audition is required.  Anyone who enjoys singing is welcome.
URL:https://firstimmanuelchicago.org/event/choir-practice-2nd-sunday-of-the-month/2027-07-11/
LOCATION:Church Sanctuary\, 1124 S Ashland Avenue\, Chicago\, IL\, 60607\, United States
ORGANIZER;CN="Yvonne Tabb":MAILTO:vonspc@att.net
END:VEVENT
BEGIN:VEVENT
DTSTART;TZID=America/Chicago:20270713T170000
DTEND;TZID=America/Chicago:20270713T200000
DTSTAMP:20260424T062305
CREATED:20250901T212516Z
LAST-MODIFIED:20250901T212718Z
UID:10004643-1815498000-1815508800@firstimmanuelchicago.org
SUMMARY:Recovery Cafe
DESCRIPTION:Join us in the parish hall at 1124 S Ashland\, once a month on the 2nd Tuesday\, for some coffee\, informal conversation and mutual support.
URL:https://firstimmanuelchicago.org/event/recovery-cafe/2027-07-13/
LOCATION:Parish Hall\, 1124 S Ashland Avenue\, Chicago\, IL\, 60607\, United States
END:VEVENT
BEGIN:VEVENT
DTSTART;TZID=America/Chicago:20270801T120000
DTEND;TZID=America/Chicago:20270801T133000
DTSTAMP:20260424T062305
CREATED:20240102T135956Z
LAST-MODIFIED:20240430T184905Z
UID:10002240-1817121600-1817127000@firstimmanuelchicago.org
SUMMARY:First-Sunday Fellowship
DESCRIPTION:Join us for fellowship in the Parish Hall\, immediately after Worship; hosted by the Birthday Clubs.
URL:https://firstimmanuelchicago.org/event/first-sunday-fellowship/2027-08-01/
LOCATION:Parish Hall\, 1124 S Ashland Avenue\, Chicago\, IL\, 60607\, United States
END:VEVENT
BEGIN:VEVENT
DTSTART;TZID=America/Chicago:20270808T120000
DTEND;TZID=America/Chicago:20270808T123000
DTSTAMP:20260424T062305
CREATED:20230904T132552Z
LAST-MODIFIED:20230904T132552Z
UID:10001187-1817726400-1817728200@firstimmanuelchicago.org
SUMMARY:Choir Practice (2nd Sunday of the Month)
DESCRIPTION:Suspended during the pandemic\, choir practice will resume\, immediately following Worship\, on the first and second Sundays of each month\, beginning in September\, 2023.  Practice is 30 minutes.  No audition is required.  Anyone who enjoys singing is welcome.
URL:https://firstimmanuelchicago.org/event/choir-practice-2nd-sunday-of-the-month/2027-08-08/
LOCATION:Church Sanctuary\, 1124 S Ashland Avenue\, Chicago\, IL\, 60607\, United States
ORGANIZER;CN="Yvonne Tabb":MAILTO:vonspc@att.net
END:VEVENT
BEGIN:VEVENT
DTSTART;TZID=America/Chicago:20270810T170000
DTEND;TZID=America/Chicago:20270810T200000
DTSTAMP:20260424T062305
CREATED:20250901T212516Z
LAST-MODIFIED:20250901T212718Z
UID:10004644-1817917200-1817928000@firstimmanuelchicago.org
SUMMARY:Recovery Cafe
DESCRIPTION:Join us in the parish hall at 1124 S Ashland\, once a month on the 2nd Tuesday\, for some coffee\, informal conversation and mutual support.
URL:https://firstimmanuelchicago.org/event/recovery-cafe/2027-08-10/
LOCATION:Parish Hall\, 1124 S Ashland Avenue\, Chicago\, IL\, 60607\, United States
END:VEVENT
BEGIN:VEVENT
DTSTART;TZID=America/Chicago:20270905T120000
DTEND;TZID=America/Chicago:20270905T133000
DTSTAMP:20260424T062306
CREATED:20240102T135956Z
LAST-MODIFIED:20240430T184905Z
UID:10002241-1820145600-1820151000@firstimmanuelchicago.org
SUMMARY:First-Sunday Fellowship
DESCRIPTION:Join us for fellowship in the Parish Hall\, immediately after Worship; hosted by the Birthday Clubs.
URL:https://firstimmanuelchicago.org/event/first-sunday-fellowship/2027-09-05/
LOCATION:Parish Hall\, 1124 S Ashland Avenue\, Chicago\, IL\, 60607\, United States
END:VEVENT
BEGIN:VEVENT
DTSTART;TZID=America/Chicago:20270912T120000
DTEND;TZID=America/Chicago:20270912T123000
DTSTAMP:20260424T062306
CREATED:20230904T132552Z
LAST-MODIFIED:20230904T132552Z
UID:10001188-1820750400-1820752200@firstimmanuelchicago.org
SUMMARY:Choir Practice (2nd Sunday of the Month)
DESCRIPTION:Suspended during the pandemic\, choir practice will resume\, immediately following Worship\, on the first and second Sundays of each month\, beginning in September\, 2023.  Practice is 30 minutes.  No audition is required.  Anyone who enjoys singing is welcome.
URL:https://firstimmanuelchicago.org/event/choir-practice-2nd-sunday-of-the-month/2027-09-12/
LOCATION:Church Sanctuary\, 1124 S Ashland Avenue\, Chicago\, IL\, 60607\, United States
ORGANIZER;CN="Yvonne Tabb":MAILTO:vonspc@att.net
END:VEVENT
END:VCALENDAR